BEGIN:VCALENDAR
VERSION:2.0
PRODID:-//Seacoast Family Promise - ECPv6.15.20//NONSGML v1.0//EN
CALSCALE:GREGORIAN
METHOD:PUBLISH
X-WR-CALNAME:Seacoast Family Promise
X-ORIGINAL-URL:https://seacoastfamilypromise.org
X-WR-CALDESC:Events for Seacoast Family Promise
REFRESH-INTERVAL;VALUE=DURATION:PT1H
X-Robots-Tag:noindex
X-PUBLISHED-TTL:PT1H
BEGIN:VTIMEZONE
TZID:Asia/Karachi
BEGIN:STANDARD
TZOFFSETFROM:+0500
TZOFFSETTO:+0500
TZNAME:PKT
DTSTART:20250101T000000
END:STANDARD
END:VTIMEZONE
BEGIN:VEVENT
DTSTART;VALUE=DATE:20260608
DTEND;VALUE=DATE:20260609
DTSTAMP:20260422T212538
CREATED:20260206T150929Z
LAST-MODIFIED:20260227T143102Z
UID:4198-1780876800-1780963199@seacoastfamilypromise.org
SUMMARY:Ninth Annual Swing for Seacoast Golf Tournament
DESCRIPTION:Save the date! \nThe annual Swing for Seacoast Golf Tournament is set to tee off on June 8\, 2026\, held once again at the Breakfast Hill Golf Club in Greenland\, NH. Enjoy a full day of golf at this scenic course\, followed by a delicious lunch and so much more. \nProceeds will support Seacoast Family Promise and out mission of supporting and sheltering families with children experiencing homelessness. \nCLICK HERE TO SPONSOR OR REGISTER
URL:https://seacoastfamilypromise.org/event/ninth-annual-swing-for-seacoast-golf-tournament/
LOCATION:Breakfast Hill Golf Club\, 339 Breakfast Hill Rd\, \, Greenland\, NH\, 03840\, United States
CATEGORIES:Golf Tournament
ATTACH;FMTTYPE=image/jpeg:https://seacoastfamilypromise.org/wp-content/uploads/2026/02/495965196_1101791208653677_1503572898543322162_n-1.jpg
END:VEVENT
END:VCALENDAR