BEGIN:VCALENDAR
VERSION:2.0
PRODID:-//Seacoast Family Promise - ECPv6.15.20//NONSGML v1.0//EN
CALSCALE:GREGORIAN
METHOD:PUBLISH
X-ORIGINAL-URL:https://seacoastfamilypromise.org
X-WR-CALDESC:Events for Seacoast Family Promise
REFRESH-INTERVAL;VALUE=DURATION:PT1H
X-Robots-Tag:noindex
X-PUBLISHED-TTL:PT1H
BEGIN:VTIMEZONE
TZID:UTC
BEGIN:STANDARD
TZOFFSETFROM:+0000
TZOFFSETTO:+0000
TZNAME:UTC
DTSTART:20240101T000000
END:STANDARD
END:VTIMEZONE
BEGIN:VEVENT
DTSTART;TZID=UTC:20250512T090000
DTEND;TZID=UTC:20250512T150000
DTSTAMP:20260422T180613
CREATED:20250207T202701Z
LAST-MODIFIED:20250502T150302Z
UID:3836-1747040400-1747062000@seacoastfamilypromise.org
SUMMARY:2025 Swing for Seacoast Charity Golf Tournament
DESCRIPTION:We’re teeing off for our annual Swing for Seacoast Charity Golf Tournament\, which features a full day of golf at Breakfast Hill Golf Club in Greenland\, followed by a delicious lunch\, and lots more. \nSign up here\nSponsor the event\n  \nThank you sponsors!
URL:https://seacoastfamilypromise.org/event/2025-swing-for-seacoast-charity-golf-tournament/
LOCATION:Breakfast Hill Golf Club\, 339 Breakfast Hill Rd\, \, Greenland\, NH\, 03840\, United States
CATEGORIES:Golf Tournament
ATTACH;FMTTYPE=image/jpeg:https://seacoastfamilypromise.org/wp-content/uploads/2025/02/441500688_838422658323868_4527925499309879628_n.jpg
END:VEVENT
END:VCALENDAR